BEGIN:VCALENDAR
VERSION:2.0
PRODID:-//WhenKickoff//Match Reminder//EN
BEGIN:VEVENT
UID:wk-538010-15@whenkickoff.com
DTSTAMP:20260420T173859Z
DTSTART:20260126T200000Z
DTEND:20260126T220000Z
SUMMARY:Everton FC vs Leeds United FC
DESCRIPTION:WhenKickoff reminder for Everton FC vs Leeds United FC
URL:https://whenkickoff.com/en/match/everton-fc-vs-leeds-united-fc-538010/
BEGIN:VALARM
TRIGGER:-PT15M
ACTION:DISPLAY
DESCRIPTION:Match starts soon
END:VALARM
END:VEVENT
END:VCALENDAR
