BEGIN:VCALENDAR
VERSION:2.0
PRODID:-//WhenKickoff//Match Reminder//EN
BEGIN:VEVENT
UID:wk-538009-15@whenkickoff.com
DTSTAMP:20260420T234446Z
DTSTART:20260124T150000Z
DTEND:20260124T170000Z
SUMMARY:Burnley FC vs Tottenham Hotspur FC
DESCRIPTION:WhenKickoff reminder for Burnley FC vs Tottenham Hotspur FC
URL:https://whenkickoff.com/en/match/burnley-fc-vs-tottenham-hotspur-fc-538009/
BEGIN:VALARM
TRIGGER:-PT15M
ACTION:DISPLAY
DESCRIPTION:Match starts soon
END:VALARM
END:VEVENT
END:VCALENDAR
