BEGIN:VCALENDAR
VERSION:2.0
PRODID:-//WhenKickoff//Match Reminder//EN
BEGIN:VEVENT
UID:wk-538006-15@whenkickoff.com
DTSTAMP:20260420T194438Z
DTSTART:20260125T140000Z
DTEND:20260125T160000Z
SUMMARY:Crystal Palace FC vs Chelsea FC
DESCRIPTION:WhenKickoff reminder for Crystal Palace FC vs Chelsea FC
URL:https://whenkickoff.com/en/match/crystal-palace-fc-vs-chelsea-fc-538006/
BEGIN:VALARM
TRIGGER:-PT15M
ACTION:DISPLAY
DESCRIPTION:Match starts soon
END:VALARM
END:VEVENT
END:VCALENDAR
