BEGIN:VCALENDAR
VERSION:2.0
PRODID:-//WhenKickoff//Match Reminder//EN
BEGIN:VEVENT
UID:wk-538005-15@whenkickoff.com
DTSTAMP:20260420T233314Z
DTSTART:20260124T173000Z
DTEND:20260124T193000Z
SUMMARY:AFC Bournemouth vs Liverpool FC
DESCRIPTION:WhenKickoff reminder for AFC Bournemouth vs Liverpool FC
URL:https://whenkickoff.com/en/match/afc-bournemouth-vs-liverpool-fc-538005/
BEGIN:VALARM
TRIGGER:-PT15M
ACTION:DISPLAY
DESCRIPTION:Match starts soon
END:VALARM
END:VEVENT
END:VCALENDAR
