BEGIN:VCALENDAR
VERSION:2.0
PRODID:-//WhenKickoff//Match Reminder//EN
BEGIN:VEVENT
UID:wk-538004-15@whenkickoff.com
DTSTAMP:20260420T180712Z
DTSTART:20260118T140000Z
DTEND:20260118T160000Z
SUMMARY:Wolverhampton Wanderers FC vs Newcastle United FC
DESCRIPTION:WhenKickoff reminder for Wolverhampton Wanderers FC vs Newcastle United FC
URL:https://whenkickoff.com/en/match/wolverhampton-wanderers-fc-vs-newcastle-united-fc-538004/
BEGIN:VALARM
TRIGGER:-PT15M
ACTION:DISPLAY
DESCRIPTION:Match starts soon
END:VALARM
END:VEVENT
END:VCALENDAR
