BEGIN:VCALENDAR
VERSION:2.0
PRODID:-//WhenKickoff//Match Reminder//EN
BEGIN:VEVENT
UID:wk-538001-15@whenkickoff.com
DTSTAMP:20260420T182937Z
DTSTART:20260117T123000Z
DTEND:20260117T143000Z
SUMMARY:Manchester United FC vs Manchester City FC
DESCRIPTION:WhenKickoff reminder for Manchester United FC vs Manchester City FC
URL:https://whenkickoff.com/en/match/manchester-united-fc-vs-manchester-city-fc-538001/
BEGIN:VALARM
TRIGGER:-PT15M
ACTION:DISPLAY
DESCRIPTION:Match starts soon
END:VALARM
END:VEVENT
END:VCALENDAR
