BEGIN:VCALENDAR
VERSION:2.0
PRODID:-//WhenKickoff//Match Reminder//EN
BEGIN:VEVENT
UID:wk-537997-15@whenkickoff.com
DTSTAMP:20260420T124540Z
DTSTART:20260119T200000Z
DTEND:20260119T220000Z
SUMMARY:Brighton & Hove Albion FC vs AFC Bournemouth
DESCRIPTION:WhenKickoff reminder for Brighton & Hove Albion FC vs AFC Bournemouth
URL:https://whenkickoff.com/en/match/brighton-hove-albion-fc-vs-afc-bournemouth-537997/
BEGIN:VALARM
TRIGGER:-PT15M
ACTION:DISPLAY
DESCRIPTION:Match starts soon
END:VALARM
END:VEVENT
END:VCALENDAR
