BEGIN:VCALENDAR
VERSION:2.0
PRODID:-//WhenKickoff//Match Reminder//EN
BEGIN:VEVENT
UID:wk-537994-15@whenkickoff.com
DTSTAMP:20260420T160824Z
DTSTART:20260106T200000Z
DTEND:20260106T220000Z
SUMMARY:West Ham United FC vs Nottingham Forest FC
DESCRIPTION:WhenKickoff reminder for West Ham United FC vs Nottingham Forest FC
URL:https://whenkickoff.com/en/match/west-ham-united-fc-vs-nottingham-forest-fc-537994/
BEGIN:VALARM
TRIGGER:-PT15M
ACTION:DISPLAY
DESCRIPTION:Match starts soon
END:VALARM
END:VEVENT
END:VCALENDAR
