BEGIN:VCALENDAR
VERSION:2.0
PRODID:-//WhenKickoff//Match Reminder//EN
BEGIN:VEVENT
UID:wk-537993-15@whenkickoff.com
DTSTAMP:20260420T173859Z
DTSTART:20260107T201500Z
DTEND:20260107T221500Z
SUMMARY:Newcastle United FC vs Leeds United FC
DESCRIPTION:WhenKickoff reminder for Newcastle United FC vs Leeds United FC
URL:https://whenkickoff.com/en/match/newcastle-united-fc-vs-leeds-united-fc-537993/
BEGIN:VALARM
TRIGGER:-PT15M
ACTION:DISPLAY
DESCRIPTION:Match starts soon
END:VALARM
END:VEVENT
END:VCALENDAR
