BEGIN:VCALENDAR
VERSION:2.0
PRODID:-//WhenKickoff//Match Reminder//EN
BEGIN:VEVENT
UID:wk-537992-15@whenkickoff.com
DTSTAMP:20260420T173859Z
DTSTART:20260107T193000Z
DTEND:20260107T213000Z
SUMMARY:Manchester City FC vs Brighton & Hove Albion FC
DESCRIPTION:WhenKickoff reminder for Manchester City FC vs Brighton & Hove Albion FC
URL:https://whenkickoff.com/en/match/manchester-city-fc-vs-brighton-hove-albion-fc-537992/
BEGIN:VALARM
TRIGGER:-PT15M
ACTION:DISPLAY
DESCRIPTION:Match starts soon
END:VALARM
END:VEVENT
END:VCALENDAR
