BEGIN:VCALENDAR
VERSION:2.0
PRODID:-//WhenKickoff//Match Reminder//EN
BEGIN:VEVENT
UID:wk-537989-15@whenkickoff.com
DTSTAMP:20260420T173858Z
DTSTART:20260107T201500Z
DTEND:20260107T221500Z
SUMMARY:Burnley FC vs Manchester United FC
DESCRIPTION:WhenKickoff reminder for Burnley FC vs Manchester United FC
URL:https://whenkickoff.com/en/match/burnley-fc-vs-manchester-united-fc-537989/
BEGIN:VALARM
TRIGGER:-PT15M
ACTION:DISPLAY
DESCRIPTION:Match starts soon
END:VALARM
END:VEVENT
END:VCALENDAR
