BEGIN:VCALENDAR
VERSION:2.0
PRODID:-//WhenKickoff//Match Reminder//EN
BEGIN:VEVENT
UID:wk-537986-15@whenkickoff.com
DTSTAMP:20260420T173856Z
DTSTART:20260107T193000Z
DTEND:20260107T213000Z
SUMMARY:Crystal Palace FC vs Aston Villa FC
DESCRIPTION:WhenKickoff reminder for Crystal Palace FC vs Aston Villa FC
URL:https://whenkickoff.com/en/match/crystal-palace-fc-vs-aston-villa-fc-537986/
BEGIN:VALARM
TRIGGER:-PT15M
ACTION:DISPLAY
DESCRIPTION:Match starts soon
END:VALARM
END:VEVENT
END:VCALENDAR
