BEGIN:VCALENDAR
VERSION:2.0
PRODID:-//WhenKickoff//Match Reminder//EN
BEGIN:VEVENT
UID:wk-537985-15@whenkickoff.com
DTSTAMP:20260420T173900Z
DTSTART:20260107T193000Z
DTEND:20260107T213000Z
SUMMARY:AFC Bournemouth vs Tottenham Hotspur FC
DESCRIPTION:WhenKickoff reminder for AFC Bournemouth vs Tottenham Hotspur FC
URL:https://whenkickoff.com/en/match/afc-bournemouth-vs-tottenham-hotspur-fc-537985/
BEGIN:VALARM
TRIGGER:-PT15M
ACTION:DISPLAY
DESCRIPTION:Match starts soon
END:VALARM
END:VEVENT
END:VCALENDAR
