BEGIN:VCALENDAR
VERSION:2.0
PRODID:-//WhenKickoff//Match Reminder//EN
BEGIN:VEVENT
UID:wk-537975-15@whenkickoff.com
DTSTAMP:20260420T180811Z
DTSTART:20260103T173000Z
DTEND:20260103T193000Z
SUMMARY:AFC Bournemouth vs Arsenal FC
DESCRIPTION:WhenKickoff reminder for AFC Bournemouth vs Arsenal FC
URL:https://whenkickoff.com/en/match/afc-bournemouth-vs-arsenal-fc-537975/
BEGIN:VALARM
TRIGGER:-PT15M
ACTION:DISPLAY
DESCRIPTION:Match starts soon
END:VALARM
END:VEVENT
END:VCALENDAR
