BEGIN:VCALENDAR
VERSION:2.0
PRODID:-//WhenKickoff//Match Reminder//EN
BEGIN:VEVENT
UID:wk-537973-15@whenkickoff.com
DTSTAMP:20260420T234444Z
DTSTART:20251230T193000Z
DTEND:20251230T213000Z
SUMMARY:Nottingham Forest FC vs Everton FC
DESCRIPTION:WhenKickoff reminder for Nottingham Forest FC vs Everton FC
URL:https://whenkickoff.com/en/match/nottingham-forest-fc-vs-everton-fc-537973/
BEGIN:VALARM
TRIGGER:-PT15M
ACTION:DISPLAY
DESCRIPTION:Match starts soon
END:VALARM
END:VEVENT
END:VCALENDAR
