BEGIN:VCALENDAR
VERSION:2.0
PRODID:-//WhenKickoff//Match Reminder//EN
BEGIN:VEVENT
UID:wk-537972-15@whenkickoff.com
DTSTAMP:20260420T234444Z
DTSTART:20251230T201500Z
DTEND:20251230T221500Z
SUMMARY:Manchester United FC vs Wolverhampton Wanderers FC
DESCRIPTION:WhenKickoff reminder for Manchester United FC vs Wolverhampton Wanderers FC
URL:https://whenkickoff.com/en/match/manchester-united-fc-vs-wolverhampton-wanderers-fc-537972/
BEGIN:VALARM
TRIGGER:-PT15M
ACTION:DISPLAY
DESCRIPTION:Match starts soon
END:VALARM
END:VEVENT
END:VCALENDAR
