BEGIN:VCALENDAR
VERSION:2.0
PRODID:-//WhenKickoff//Match Reminder//EN
BEGIN:VEVENT
UID:wk-537970-15@whenkickoff.com
DTSTAMP:20260420T234552Z
DTSTART:20251230T193000Z
DTEND:20251230T213000Z
SUMMARY:Chelsea FC vs AFC Bournemouth
DESCRIPTION:WhenKickoff reminder for Chelsea FC vs AFC Bournemouth
URL:https://whenkickoff.com/en/match/chelsea-fc-vs-afc-bournemouth-537970/
BEGIN:VALARM
TRIGGER:-PT15M
ACTION:DISPLAY
DESCRIPTION:Match starts soon
END:VALARM
END:VEVENT
END:VCALENDAR
