BEGIN:VCALENDAR
VERSION:2.0
PRODID:-//WhenKickoff//Match Reminder//EN
BEGIN:VEVENT
UID:wk-537969-15@whenkickoff.com
DTSTAMP:20260420T234443Z
DTSTART:20251230T193000Z
DTEND:20251230T213000Z
SUMMARY:Burnley FC vs Newcastle United FC
DESCRIPTION:WhenKickoff reminder for Burnley FC vs Newcastle United FC
URL:https://whenkickoff.com/en/match/burnley-fc-vs-newcastle-united-fc-537969/
BEGIN:VALARM
TRIGGER:-PT15M
ACTION:DISPLAY
DESCRIPTION:Match starts soon
END:VALARM
END:VEVENT
END:VCALENDAR
