BEGIN:VCALENDAR
VERSION:2.0
PRODID:-//WhenKickoff//Match Reminder//EN
BEGIN:VEVENT
UID:wk-537968-15@whenkickoff.com
DTSTAMP:20260420T214023Z
DTSTART:20260101T200000Z
DTEND:20260101T220000Z
SUMMARY:Brentford FC vs Tottenham Hotspur FC
DESCRIPTION:WhenKickoff reminder for Brentford FC vs Tottenham Hotspur FC
URL:https://whenkickoff.com/en/match/brentford-fc-vs-tottenham-hotspur-fc-537968/
BEGIN:VALARM
TRIGGER:-PT15M
ACTION:DISPLAY
DESCRIPTION:Match starts soon
END:VALARM
END:VEVENT
END:VCALENDAR
