BEGIN:VCALENDAR
VERSION:2.0
PRODID:-//WhenKickoff//Match Reminder//EN
BEGIN:VEVENT
UID:wk-537967-15@whenkickoff.com
DTSTAMP:20260420T215409Z
DTSTART:20251230T201500Z
DTEND:20251230T221500Z
SUMMARY:Arsenal FC vs Aston Villa FC
DESCRIPTION:WhenKickoff reminder for Arsenal FC vs Aston Villa FC
URL:https://whenkickoff.com/en/match/arsenal-fc-vs-aston-villa-fc-537967/
BEGIN:VALARM
TRIGGER:-PT15M
ACTION:DISPLAY
DESCRIPTION:Match starts soon
END:VALARM
END:VEVENT
END:VCALENDAR
