BEGIN:VCALENDAR
VERSION:2.0
PRODID:-//WhenKickoff//Match Reminder//EN
BEGIN:VEVENT
UID:wk-537966-15@whenkickoff.com
DTSTAMP:20260420T214023Z
DTSTART:20260101T173000Z
DTEND:20260101T193000Z
SUMMARY:Crystal Palace FC vs Fulham FC
DESCRIPTION:WhenKickoff reminder for Crystal Palace FC vs Fulham FC
URL:https://whenkickoff.com/en/match/crystal-palace-fc-vs-fulham-fc-537966/
BEGIN:VALARM
TRIGGER:-PT15M
ACTION:DISPLAY
DESCRIPTION:Match starts soon
END:VALARM
END:VEVENT
END:VCALENDAR
