BEGIN:VCALENDAR
VERSION:2.0
PRODID:-//WhenKickoff//Match Reminder//EN
BEGIN:VEVENT
UID:wk-537965-15@whenkickoff.com
DTSTAMP:20260420T214025Z
DTSTART:20260101T200000Z
DTEND:20260101T220000Z
SUMMARY:Sunderland AFC vs Manchester City FC
DESCRIPTION:WhenKickoff reminder for Sunderland AFC vs Manchester City FC
URL:https://whenkickoff.com/en/match/sunderland-afc-vs-manchester-city-fc-537965/
BEGIN:VALARM
TRIGGER:-PT15M
ACTION:DISPLAY
DESCRIPTION:Match starts soon
END:VALARM
END:VEVENT
END:VCALENDAR
