BEGIN:VCALENDAR
VERSION:2.0
PRODID:-//WhenKickoff//Match Reminder//EN
BEGIN:VEVENT
UID:wk-537964-15@whenkickoff.com
DTSTAMP:20260421T000011Z
DTSTART:20251227T150000Z
DTEND:20251227T170000Z
SUMMARY:West Ham United FC vs Fulham FC
DESCRIPTION:WhenKickoff reminder for West Ham United FC vs Fulham FC
URL:https://whenkickoff.com/en/match/west-ham-united-fc-vs-fulham-fc-537964/
BEGIN:VALARM
TRIGGER:-PT15M
ACTION:DISPLAY
DESCRIPTION:Match starts soon
END:VALARM
END:VEVENT
END:VCALENDAR
