BEGIN:VCALENDAR
VERSION:2.0
PRODID:-//WhenKickoff//Match Reminder//EN
BEGIN:VEVENT
UID:wk-537963-15@whenkickoff.com
DTSTAMP:20260421T000434Z
DTSTART:20251227T123000Z
DTEND:20251227T143000Z
SUMMARY:Nottingham Forest FC vs Manchester City FC
DESCRIPTION:WhenKickoff reminder for Nottingham Forest FC vs Manchester City FC
URL:https://whenkickoff.com/en/match/nottingham-forest-fc-vs-manchester-city-fc-537963/
BEGIN:VALARM
TRIGGER:-PT15M
ACTION:DISPLAY
DESCRIPTION:Match starts soon
END:VALARM
END:VEVENT
END:VCALENDAR
