BEGIN:VCALENDAR
VERSION:2.0
PRODID:-//WhenKickoff//Match Reminder//EN
BEGIN:VEVENT
UID:wk-537962-15@whenkickoff.com
DTSTAMP:20260421T031030Z
DTSTART:20251226T200000Z
DTEND:20251226T220000Z
SUMMARY:Manchester United FC vs Newcastle United FC
DESCRIPTION:WhenKickoff reminder for Manchester United FC vs Newcastle United FC
URL:https://whenkickoff.com/en/match/manchester-united-fc-vs-newcastle-united-fc-537962/
BEGIN:VALARM
TRIGGER:-PT15M
ACTION:DISPLAY
DESCRIPTION:Match starts soon
END:VALARM
END:VEVENT
END:VCALENDAR
