BEGIN:VCALENDAR
VERSION:2.0
PRODID:-//WhenKickoff//Match Reminder//EN
BEGIN:VEVENT
UID:wk-537961-15@whenkickoff.com
DTSTAMP:20260420T234551Z
DTSTART:20251227T150000Z
DTEND:20251227T170000Z
SUMMARY:Liverpool FC vs Wolverhampton Wanderers FC
DESCRIPTION:WhenKickoff reminder for Liverpool FC vs Wolverhampton Wanderers FC
URL:https://whenkickoff.com/en/match/liverpool-fc-vs-wolverhampton-wanderers-fc-537961/
BEGIN:VALARM
TRIGGER:-PT15M
ACTION:DISPLAY
DESCRIPTION:Match starts soon
END:VALARM
END:VEVENT
END:VCALENDAR
