BEGIN:VCALENDAR
VERSION:2.0
PRODID:-//WhenKickoff//Match Reminder//EN
BEGIN:VEVENT
UID:wk-537960-15@whenkickoff.com
DTSTAMP:20260421T001048Z
DTSTART:20251227T173000Z
DTEND:20251227T193000Z
SUMMARY:Chelsea FC vs Aston Villa FC
DESCRIPTION:WhenKickoff reminder for Chelsea FC vs Aston Villa FC
URL:https://whenkickoff.com/en/match/chelsea-fc-vs-aston-villa-fc-537960/
BEGIN:VALARM
TRIGGER:-PT15M
ACTION:DISPLAY
DESCRIPTION:Match starts soon
END:VALARM
END:VEVENT
END:VCALENDAR
