BEGIN:VCALENDAR
VERSION:2.0
PRODID:-//WhenKickoff//Match Reminder//EN
BEGIN:VEVENT
UID:wk-537959-15@whenkickoff.com
DTSTAMP:20260420T234552Z
DTSTART:20251227T150000Z
DTEND:20251227T170000Z
SUMMARY:Burnley FC vs Everton FC
DESCRIPTION:WhenKickoff reminder for Burnley FC vs Everton FC
URL:https://whenkickoff.com/en/match/burnley-fc-vs-everton-fc-537959/
BEGIN:VALARM
TRIGGER:-PT15M
ACTION:DISPLAY
DESCRIPTION:Match starts soon
END:VALARM
END:VEVENT
END:VCALENDAR
