BEGIN:VCALENDAR
VERSION:2.0
PRODID:-//WhenKickoff//Match Reminder//EN
BEGIN:VEVENT
UID:wk-537958-15@whenkickoff.com
DTSTAMP:20260420T234553Z
DTSTART:20251227T150000Z
DTEND:20251227T170000Z
SUMMARY:Brentford FC vs AFC Bournemouth
DESCRIPTION:WhenKickoff reminder for Brentford FC vs AFC Bournemouth
URL:https://whenkickoff.com/en/match/brentford-fc-vs-afc-bournemouth-537958/
BEGIN:VALARM
TRIGGER:-PT15M
ACTION:DISPLAY
DESCRIPTION:Match starts soon
END:VALARM
END:VEVENT
END:VCALENDAR
