BEGIN:VCALENDAR
VERSION:2.0
PRODID:-//WhenKickoff//Match Reminder//EN
BEGIN:VEVENT
UID:wk-537957-15@whenkickoff.com
DTSTAMP:20260420T235903Z
DTSTART:20251227T150000Z
DTEND:20251227T170000Z
SUMMARY:Arsenal FC vs Brighton & Hove Albion FC
DESCRIPTION:WhenKickoff reminder for Arsenal FC vs Brighton & Hove Albion FC
URL:https://whenkickoff.com/en/match/arsenal-fc-vs-brighton-hove-albion-fc-537957/
BEGIN:VALARM
TRIGGER:-PT15M
ACTION:DISPLAY
DESCRIPTION:Match starts soon
END:VALARM
END:VEVENT
END:VCALENDAR
