BEGIN:VCALENDAR
VERSION:2.0
PRODID:-//WhenKickoff//Match Reminder//EN
BEGIN:VEVENT
UID:wk-537956-15@whenkickoff.com
DTSTAMP:20260420T234445Z
DTSTART:20251228T163000Z
DTEND:20251228T183000Z
SUMMARY:Crystal Palace FC vs Tottenham Hotspur FC
DESCRIPTION:WhenKickoff reminder for Crystal Palace FC vs Tottenham Hotspur FC
URL:https://whenkickoff.com/en/match/crystal-palace-fc-vs-tottenham-hotspur-fc-537956/
BEGIN:VALARM
TRIGGER:-PT15M
ACTION:DISPLAY
DESCRIPTION:Match starts soon
END:VALARM
END:VEVENT
END:VCALENDAR
