BEGIN:VCALENDAR
VERSION:2.0
PRODID:-//WhenKickoff//Match Reminder//EN
BEGIN:VEVENT
UID:wk-537955-15@whenkickoff.com
DTSTAMP:20260420T234553Z
DTSTART:20251228T140000Z
DTEND:20251228T160000Z
SUMMARY:Sunderland AFC vs Leeds United FC
DESCRIPTION:WhenKickoff reminder for Sunderland AFC vs Leeds United FC
URL:https://whenkickoff.com/en/match/sunderland-afc-vs-leeds-united-fc-537955/
BEGIN:VALARM
TRIGGER:-PT15M
ACTION:DISPLAY
DESCRIPTION:Match starts soon
END:VALARM
END:VEVENT
END:VCALENDAR
