BEGIN:VCALENDAR
VERSION:2.0
PRODID:-//WhenKickoff//Match Reminder//EN
BEGIN:VEVENT
UID:wk-537722-15@whenkickoff.com
DTSTAMP:20260419T144903Z
DTSTART:20260502T164500Z
DTEND:20260502T184500Z
SUMMARY:FC Groningen vs SBV Excelsior
DESCRIPTION:WhenKickoff reminder for FC Groningen vs SBV Excelsior
URL:https://whenkickoff.com/en/match/fc-groningen-vs-sbv-excelsior-537722/
BEGIN:VALARM
TRIGGER:-PT15M
ACTION:DISPLAY
DESCRIPTION:Match starts soon
END:VALARM
END:VEVENT
END:VCALENDAR
