BEGIN:VCALENDAR
VERSION:2.0
PRODID:-//WhenKickoff//Match Reminder//EN
BEGIN:VEVENT
UID:wk-537721-15@whenkickoff.com
DTSTAMP:20260419T173004Z
DTSTART:20260503T144500Z
DTEND:20260503T164500Z
SUMMARY:AZ vs FC Twente '65
DESCRIPTION:WhenKickoff reminder for AZ vs FC Twente '65
URL:https://whenkickoff.com/en/match/az-vs-fc-twente-65-537721/
BEGIN:VALARM
TRIGGER:-PT15M
ACTION:DISPLAY
DESCRIPTION:Match starts soon
END:VALARM
END:VEVENT
END:VCALENDAR
