BEGIN:VCALENDAR
VERSION:2.0
PRODID:-//WhenKickoff//Match Reminder//EN
BEGIN:VEVENT
UID:wk-537719-15@whenkickoff.com
DTSTAMP:20260419T215120Z
DTSTART:20260425T190000Z
DTEND:20260425T210000Z
SUMMARY:FC Twente '65 vs NEC
DESCRIPTION:WhenKickoff reminder for FC Twente '65 vs NEC
URL:https://whenkickoff.com/en/match/fc-twente-65-vs-nec-537719/
BEGIN:VALARM
TRIGGER:-PT15M
ACTION:DISPLAY
DESCRIPTION:Match starts soon
END:VALARM
END:VEVENT
END:VCALENDAR
