BEGIN:VCALENDAR
VERSION:2.0
PRODID:-//WhenKickoff//Match Reminder//EN
BEGIN:VEVENT
UID:wk-537714-15@whenkickoff.com
DTSTAMP:20260419T135921Z
DTSTART:20260426T123000Z
DTEND:20260426T143000Z
SUMMARY:Heracles Almelo vs FC Volendam
DESCRIPTION:WhenKickoff reminder for Heracles Almelo vs FC Volendam
URL:https://whenkickoff.com/en/match/heracles-almelo-vs-fc-volendam-537714/
BEGIN:VALARM
TRIGGER:-PT15M
ACTION:DISPLAY
DESCRIPTION:Match starts soon
END:VALARM
END:VEVENT
END:VCALENDAR
