BEGIN:VCALENDAR
VERSION:2.0
PRODID:-//WhenKickoff//Match Reminder//EN
BEGIN:VEVENT
UID:wk-537701-15@whenkickoff.com
DTSTAMP:20260419T152625Z
DTSTART:20260404T164500Z
DTEND:20260404T184500Z
SUMMARY:Telstar 1963 vs FC Groningen
DESCRIPTION:WhenKickoff reminder for Telstar 1963 vs FC Groningen
URL:https://whenkickoff.com/en/match/telstar-1963-vs-fc-groningen-537701/
BEGIN:VALARM
TRIGGER:-PT15M
ACTION:DISPLAY
DESCRIPTION:Match starts soon
END:VALARM
END:VEVENT
END:VCALENDAR
