BEGIN:VCALENDAR
VERSION:2.0
PRODID:-//WhenKickoff//Match Reminder//EN
BEGIN:VEVENT
UID:wk-537698-15@whenkickoff.com
DTSTAMP:20260419T172928Z
DTSTART:20260405T144500Z
DTEND:20260405T164500Z
SUMMARY:NAC Breda vs Sparta Rotterdam
DESCRIPTION:WhenKickoff reminder for NAC Breda vs Sparta Rotterdam
URL:https://whenkickoff.com/en/match/nac-breda-vs-sparta-rotterdam-537698/
BEGIN:VALARM
TRIGGER:-PT15M
ACTION:DISPLAY
DESCRIPTION:Match starts soon
END:VALARM
END:VEVENT
END:VCALENDAR
