BEGIN:VCALENDAR
VERSION:2.0
PRODID:-//WhenKickoff//Match Reminder//EN
BEGIN:VEVENT
UID:wk-537696-15@whenkickoff.com
DTSTAMP:20260419T192316Z
DTSTART:20260405T123000Z
DTEND:20260405T143000Z
SUMMARY:FC Volendam vs Feyenoord Rotterdam
DESCRIPTION:WhenKickoff reminder for FC Volendam vs Feyenoord Rotterdam
URL:https://whenkickoff.com/en/match/fc-volendam-vs-feyenoord-rotterdam-537696/
BEGIN:VALARM
TRIGGER:-PT15M
ACTION:DISPLAY
DESCRIPTION:Match starts soon
END:VALARM
END:VEVENT
END:VCALENDAR
