BEGIN:VCALENDAR
VERSION:2.0
PRODID:-//WhenKickoff//Match Reminder//EN
BEGIN:VEVENT
UID:wk-537695-15@whenkickoff.com
DTSTAMP:20260419T173005Z
DTSTART:20260404T190000Z
DTEND:20260404T210000Z
SUMMARY:SBV Excelsior vs NEC
DESCRIPTION:WhenKickoff reminder for SBV Excelsior vs NEC
URL:https://whenkickoff.com/en/match/sbv-excelsior-vs-nec-537695/
BEGIN:VALARM
TRIGGER:-PT15M
ACTION:DISPLAY
DESCRIPTION:Match starts soon
END:VALARM
END:VEVENT
END:VCALENDAR
