BEGIN:VCALENDAR
VERSION:2.0
PRODID:-//WhenKickoff//Match Reminder//EN
BEGIN:VEVENT
UID:wk-537692-15@whenkickoff.com
DTSTAMP:20260419T201232Z
DTSTART:20260322T154500Z
DTEND:20260322T174500Z
SUMMARY:Telstar 1963 vs PSV
DESCRIPTION:WhenKickoff reminder for Telstar 1963 vs PSV
URL:https://whenkickoff.com/en/match/telstar-1963-vs-psv-537692/
BEGIN:VALARM
TRIGGER:-PT15M
ACTION:DISPLAY
DESCRIPTION:Match starts soon
END:VALARM
END:VEVENT
END:VCALENDAR
