BEGIN:VCALENDAR
VERSION:2.0
PRODID:-//WhenKickoff//Match Reminder//EN
BEGIN:VEVENT
UID:wk-537690-15@whenkickoff.com
DTSTAMP:20260419T143733Z
DTSTART:20260321T200000Z
DTEND:20260321T220000Z
SUMMARY:PEC Zwolle vs NAC Breda
DESCRIPTION:WhenKickoff reminder for PEC Zwolle vs NAC Breda
URL:https://whenkickoff.com/en/match/pec-zwolle-vs-nac-breda-537690/
BEGIN:VALARM
TRIGGER:-PT15M
ACTION:DISPLAY
DESCRIPTION:Match starts soon
END:VALARM
END:VEVENT
END:VCALENDAR
