BEGIN:VCALENDAR
VERSION:2.0
PRODID:-//WhenKickoff//Match Reminder//EN
BEGIN:VEVENT
UID:wk-537687-15@whenkickoff.com
DTSTAMP:20260419T135920Z
DTSTART:20260321T153000Z
DTEND:20260321T173000Z
SUMMARY:Fortuna Sittard vs FC Twente '65
DESCRIPTION:WhenKickoff reminder for Fortuna Sittard vs FC Twente '65
URL:https://whenkickoff.com/en/match/fortuna-sittard-vs-fc-twente-65-537687/
BEGIN:VALARM
TRIGGER:-PT15M
ACTION:DISPLAY
DESCRIPTION:Match starts soon
END:VALARM
END:VEVENT
END:VCALENDAR
