BEGIN:VCALENDAR
VERSION:2.0
PRODID:-//WhenKickoff//Match Reminder//EN
BEGIN:VEVENT
UID:wk-537681-15@whenkickoff.com
DTSTAMP:20260419T143729Z
DTSTART:20260314T174500Z
DTEND:20260314T194500Z
SUMMARY:PSV vs NEC
DESCRIPTION:WhenKickoff reminder for PSV vs NEC
URL:https://whenkickoff.com/en/match/psv-vs-nec-537681/
BEGIN:VALARM
TRIGGER:-PT15M
ACTION:DISPLAY
DESCRIPTION:Match starts soon
END:VALARM
END:VEVENT
END:VCALENDAR
