BEGIN:VCALENDAR
VERSION:2.0
PRODID:-//WhenKickoff//Match Reminder//EN
BEGIN:VEVENT
UID:wk-537677-15@whenkickoff.com
DTSTAMP:20260419T143731Z
DTSTART:20260314T153000Z
DTEND:20260314T173000Z
SUMMARY:FC Volendam vs Fortuna Sittard
DESCRIPTION:WhenKickoff reminder for FC Volendam vs Fortuna Sittard
URL:https://whenkickoff.com/en/match/fc-volendam-vs-fortuna-sittard-537677/
BEGIN:VALARM
TRIGGER:-PT15M
ACTION:DISPLAY
DESCRIPTION:Match starts soon
END:VALARM
END:VEVENT
END:VCALENDAR
