BEGIN:VCALENDAR
VERSION:2.0
PRODID:-//WhenKickoff//Match Reminder//EN
BEGIN:VEVENT
UID:wk-537676-15@whenkickoff.com
DTSTAMP:20260419T115524Z
DTSTART:20260315T133000Z
DTEND:20260315T153000Z
SUMMARY:AZ vs Heracles Almelo
DESCRIPTION:WhenKickoff reminder for AZ vs Heracles Almelo
URL:https://whenkickoff.com/en/match/az-vs-heracles-almelo-537676/
BEGIN:VALARM
TRIGGER:-PT15M
ACTION:DISPLAY
DESCRIPTION:Match starts soon
END:VALARM
END:VEVENT
END:VCALENDAR
