BEGIN:VCALENDAR
VERSION:2.0
PRODID:-//WhenKickoff//Match Reminder//EN
BEGIN:VEVENT
UID:wk-537675-15@whenkickoff.com
DTSTAMP:20260419T143730Z
DTSTART:20260314T200000Z
DTEND:20260314T220000Z
SUMMARY:AFC Ajax vs Sparta Rotterdam
DESCRIPTION:WhenKickoff reminder for AFC Ajax vs Sparta Rotterdam
URL:https://whenkickoff.com/en/match/afc-ajax-vs-sparta-rotterdam-537675/
BEGIN:VALARM
TRIGGER:-PT15M
ACTION:DISPLAY
DESCRIPTION:Match starts soon
END:VALARM
END:VEVENT
END:VCALENDAR
