BEGIN:VCALENDAR
VERSION:2.0
PRODID:-//WhenKickoff//Match Reminder//EN
BEGIN:VEVENT
UID:wk-537674-15@whenkickoff.com
DTSTAMP:20260419T143732Z
DTSTART:20260308T111500Z
DTEND:20260308T131500Z
SUMMARY:Sparta Rotterdam vs PEC Zwolle
DESCRIPTION:WhenKickoff reminder for Sparta Rotterdam vs PEC Zwolle
URL:https://whenkickoff.com/en/match/sparta-rotterdam-vs-pec-zwolle-537674/
BEGIN:VALARM
TRIGGER:-PT15M
ACTION:DISPLAY
DESCRIPTION:Match starts soon
END:VALARM
END:VEVENT
END:VCALENDAR
