BEGIN:VCALENDAR
VERSION:2.0
PRODID:-//WhenKickoff//Match Reminder//EN
BEGIN:VEVENT
UID:wk-537668-15@whenkickoff.com
DTSTAMP:20260419T172928Z
DTSTART:20260308T133000Z
DTEND:20260308T153000Z
SUMMARY:Fortuna Sittard vs Telstar 1963
DESCRIPTION:WhenKickoff reminder for Fortuna Sittard vs Telstar 1963
URL:https://whenkickoff.com/en/match/fortuna-sittard-vs-telstar-1963-537668/
BEGIN:VALARM
TRIGGER:-PT15M
ACTION:DISPLAY
DESCRIPTION:Match starts soon
END:VALARM
END:VEVENT
END:VCALENDAR
