BEGIN:VCALENDAR
VERSION:2.0
PRODID:-//WhenKickoff//Match Reminder//EN
BEGIN:VEVENT
UID:wk-537661-15@whenkickoff.com
DTSTAMP:20260419T163012Z
DTSTART:20260228T200000Z
DTEND:20260228T220000Z
SUMMARY:NEC vs Fortuna Sittard
DESCRIPTION:WhenKickoff reminder for NEC vs Fortuna Sittard
URL:https://whenkickoff.com/en/match/nec-vs-fortuna-sittard-537661/
BEGIN:VALARM
TRIGGER:-PT15M
ACTION:DISPLAY
DESCRIPTION:Match starts soon
END:VALARM
END:VEVENT
END:VCALENDAR
